BEGIN:VCALENDAR
VERSION:2.0
PRODID:-//Fed Communities - ECPv6.15.20//NONSGML v1.0//EN
CALSCALE:GREGORIAN
METHOD:PUBLISH
X-ORIGINAL-URL:https://fedcommunities.org
X-WR-CALDESC:Events for Fed Communities
REFRESH-INTERVAL;VALUE=DURATION:PT1H
X-Robots-Tag:noindex
X-PUBLISHED-TTL:PT1H
BEGIN:VTIMEZONE
TZID:America/New_York
BEGIN:DAYLIGHT
TZOFFSETFROM:-0500
TZOFFSETTO:-0400
TZNAME:EDT
DTSTART:20200308T070000
END:DAYLIGHT
BEGIN:STANDARD
TZOFFSETFROM:-0400
TZOFFSETTO:-0500
TZNAME:EST
DTSTART:20201101T060000
END:STANDARD
BEGIN:DAYLIGHT
TZOFFSETFROM:-0500
TZOFFSETTO:-0400
TZNAME:EDT
DTSTART:20210314T070000
END:DAYLIGHT
BEGIN:STANDARD
TZOFFSETFROM:-0400
TZOFFSETTO:-0500
TZNAME:EST
DTSTART:20211107T060000
END:STANDARD
BEGIN:DAYLIGHT
TZOFFSETFROM:-0500
TZOFFSETTO:-0400
TZNAME:EDT
DTSTART:20220313T070000
END:DAYLIGHT
BEGIN:STANDARD
TZOFFSETFROM:-0400
TZOFFSETTO:-0500
TZNAME:EST
DTSTART:20221106T060000
END:STANDARD
BEGIN:DAYLIGHT
TZOFFSETFROM:-0500
TZOFFSETTO:-0400
TZNAME:EDT
DTSTART:20230312T070000
END:DAYLIGHT
BEGIN:STANDARD
TZOFFSETFROM:-0400
TZOFFSETTO:-0500
TZNAME:EST
DTSTART:20231105T060000
END:STANDARD
BEGIN:DAYLIGHT
TZOFFSETFROM:-0500
TZOFFSETTO:-0400
TZNAME:EDT
DTSTART:20240310T070000
END:DAYLIGHT
BEGIN:STANDARD
TZOFFSETFROM:-0400
TZOFFSETTO:-0500
TZNAME:EST
DTSTART:20241103T060000
END:STANDARD
BEGIN:DAYLIGHT
TZOFFSETFROM:-0500
TZOFFSETTO:-0400
TZNAME:EDT
DTSTART:20250309T070000
END:DAYLIGHT
BEGIN:STANDARD
TZOFFSETFROM:-0400
TZOFFSETTO:-0500
TZNAME:EST
DTSTART:20251102T060000
END:STANDARD
BEGIN:DAYLIGHT
TZOFFSETFROM:-0500
TZOFFSETTO:-0400
TZNAME:EDT
DTSTART:20260308T070000
END:DAYLIGHT
BEGIN:STANDARD
TZOFFSETFROM:-0400
TZOFFSETTO:-0500
TZNAME:EST
DTSTART:20261101T060000
END:STANDARD
BEGIN:DAYLIGHT
TZOFFSETFROM:-0500
TZOFFSETTO:-0400
TZNAME:EDT
DTSTART:20270314T070000
END:DAYLIGHT
BEGIN:STANDARD
TZOFFSETFROM:-0400
TZOFFSETTO:-0500
TZNAME:EST
DTSTART:20271107T060000
END:STANDARD
END:VTIMEZONE
BEGIN:VEVENT
DTSTART;TZID=America/New_York:20260407T083000
DTEND;TZID=America/New_York:20260407T110000
DTSTAMP:20260422T080650
CREATED:20260302T235137Z
LAST-MODIFIED:20260302T235139Z
UID:10000715-1775550600-1775559600@fedcommunities.org
SUMMARY:District Dialogues: How is the Economy\, Really?
DESCRIPTION:The Richmond Fed’s District Dialogues series brings together regional leaders\, practitioners and community stakeholders for timely conversations about the economy. These events provide accessible\, data-driven insights into current economic conditions and emerging trends shaping communities across the Fifth District.  \n\n\n\nThis session\, held at the Baltimore Branch of the Richmond Fed\, will focus on the state of the economy with particular attention to Maryland and the greater Washington\, D.C. metro area. Richmond Fed economists and local industry leaders will share the latest analysis on growth\, labor markets\, inflation and regional dynamics\, and discuss what these trends mean for local businesses\, workers and communities.  \n\n\n\nWhether you’re a business owner\, community leader\, policymaker\, or simply interested in our local economy\, this event will help connect national economic dynamics to local realities and offer practical insights into where the economy stands now and where it may be headed next.   \n\n\n\nThis event is free to attend\, but you must RSVP to secure your spot.  \n\n\n\nRegistration Deadlines: \n\n\n\n\n\nIn Person: March 31\, 2026\n\n\n\nVirtual: April 7\, 2026\n\n\n\n\n\n\nRegister\n\n\n\n\n\n\n\n\n\n\nSpeakers\n\n\n\n\n\nAndy Bauer\, Vice President and Regional Executive\, Federal Reserve Bank of Richmond\n\n\n\nJohn O’Trakoun\, Senior Policy Economist\, Federal Reserve Bank of Richmond\n\n\n\nJennifer Vey\, Executive Vice President and Chief Strategy Officer\, Greater Baltimore Committee\n\n\n\nDaraius Irani\, Vice President of Business and Public Engagement\, Towson University \n\n\n\n\n\n\n\n\n\n\n\n\n\n\n\nAgenda\n\n\n\n\n\n\n\n\n\n8:30am – 9:00 am ET \n\n\n\n\n\nContinental Breakfast and Networking\n\n\n\nIn Person \n\n\n\n\n\n\n\n9:00 am – 10:30 am ET \n\n\n\n\n\nEconomic Update\, Panel Discussion and Audience Q&A\n\n\n\nIn Person and Virutal Audiences \n\n\n\n\n\n\n\n10:30 am – 11:00 am ET \n\n\n\n\n\nClosing Remarks and Networking\n\n\n\nIn Person \n\n\n\n\n\n\n\n\n\n\n\n\n\n\n\nPresented by\n\n\n\n\n\nLocation\n\n\n\nThis is a hybrid event. 
URL:https://fedcommunities.org/event/2026-district-dialogues-how-economy-really-baltimore/
LOCATION:Federal Reserve Bank of Richmond\, Baltimore Branch\, 502 S. Sharp Street\, Baltimore\, Maryland\, 21201\, United States
CATEGORIES:District Dialogues
ATTACH;FMTTYPE=image/jpeg:https://fedcommunities.org/wp-content/uploads/2026/03/richmond-fed-district-dialouges-how-econonomy-really-baltimore.jpg
END:VEVENT
BEGIN:VEVENT
DTSTART;TZID=America/New_York:20250903T140000
DTEND;TZID=America/New_York:20250903T170000
DTSTAMP:20260422T080650
CREATED:20250825T172125Z
LAST-MODIFIED:20250825T172126Z
UID:10000673-1756908000-1756918800@fedcommunities.org
SUMMARY:District Dialogues - Unlocking Rural Potential: Identifying and Addressing the Barriers to Rural Investment
DESCRIPTION:At this District Dialogues event\, we’ll dig into the latest research and economic data\, hear local experts discuss the key factors impeding rural investment\, and identify policies and programs that may support economic outcomes and community development.  \n\n\n\nAs a regional Reserve Bank\, the Richmond Fed has a mission to strengthen the economy and the communities we serve. With nearly a quarter of the Fifth District’s population living in small towns and rural communities\, the Richmond Fed is committed to understanding the unique challenges facing these areas and sharing research and what works to address these challenges. Some Fifth District rural communities and small towns are thriving\, but others are struggling\, held back by issues such as population and job loss\, lack of childcare and limited educational opportunities.  \n\n\n\nInterested in learning more? All community members are invited to join us Wednesday\, September 3 at 2:00 PM in person at West Virginia University or virtually via Zoom. There is no cost to attend\, but all attendees are asked to register in advance. In-person attendees are invited to join us before the event for networking and refreshments. \n\n\n\n\n\n\n\n\nRegister\n\n\n\n\n\n\n\n\n\n\nSpeakers\n\n\n\n\n\nAndy Bauer\, Vice President and Regional Executive\, Federal Reserve Bank of Richmond\n\n\n\nSurekha Carpenter\, Senior Research Analyst\, Federal Reserve Bank of Richmond\n\n\n\nStacey Armstrong\, President\, WVU Innovation Corporation\n\n\n\nJen Giovannitti\, President\, Claude Worthington Benedum Foundation\n\n\n\nChristy Laxton\, Executive Director\, Wyoming County Economic Development Authority \n\n\n\nElizabeth Vitullo\, Assistant Vice President\, Economic Innovation\, West Virginia University\n\n\n\n\n\n\n\n\n\n\n\n\n\n\n\nAgenda\n\n\n\n\n\n\n\n\n\n2:00-2:30 pm ET \n\n\n\n\n\nWelcome Reception: Networking & RefreshmentsIn Person \n\n\n\n\n\n\n\n2:30-4:00 pm ET \n\n\n\n\n\nPresentation\, Panel Discussion and Audience Q&AIn Person and Virtual Audiences \n\n\n\n\n\n\n\n4:00-5:00 pm ET \n\n\n\n\n\nClosing Remarks and NetworkingIn Person \n\n\n\n\n\n\n\n\n\n\n\n\n\n\n\nPresented by\n\n\n\n\n\nLocation\n\n\n\nThis is a hybrid event. 
URL:https://fedcommunities.org/event/district-dialogues-unlocking-rural-potential/
LOCATION:West Virginia University – Erickson Alumni Center\, 1 Alumni Drive\, Morgantown\, West Virginia\, 26506\, United States
CATEGORIES:District Dialogues
ATTACH;FMTTYPE=image/jpeg:https://fedcommunities.org/wp-content/uploads/2025/08/richmond-fed-rural-potential-district-dialogue.jpg
END:VEVENT
BEGIN:VEVENT
DTSTART;TZID=America/New_York:20250626T083000
DTEND;TZID=America/New_York:20250626T110000
DTSTAMP:20260422T080650
CREATED:20250603T231649Z
LAST-MODIFIED:20250618T183802Z
UID:10000653-1750926600-1750935600@fedcommunities.org
SUMMARY:District Dialogues: Maximizing Employment: Understanding Labor Force Participation
DESCRIPTION:What is labor force participation\, and what role does it play in the Fed’s mandate from Congress to maximize employment? Why did the post-pandemic workforce “bounce back” faster in some regions and industries than others?  \n\n\n\nThe next installment in our District Dialogues event series—which brings together subject matter experts\, business and community leaders\, and Richmond Fed economists to dialogue on top economic topics facing our region—will dig into national\, regional\, and state labor market data to discuss the crucial role labor force participation plays in economic growth and stability and why it can vary across different geographies and sectors of the economy. \n\n\n\nInterested in learning more? All community members are invited to join us Thursday\, June 26 at 8:30 AM in person at the Richmond Fed’s Baltimore\, MD Branch office or virtually via Zoom. There is no cost to attend\, but all attendees are asked to register in advance. In-person attendees are invited to join us before the event for networking and refreshments. \n\n\n\n\n\n\n\n\nRegister\n\n\n\n\n\n\n\n\n\n\nSpeakers\n\n\n\n\n\nAndy Bauer\, Vice President and Regional Executive\, Federal Reserve Bank of Richmond\n\n\n\nJohn Bailey Jones\, Vice President of Microeconomic Analysis\, Federal Reserve Bank of Richmond\n\n\n\nBrooke Lierman\, Comptroller of Maryland\n\n\n\nMelanie Styles\, Senior Program Officer – Workforce Development\,\, Abell Foundation\n\n\n\n\n\n\n\n\n\n\n\n\n\n\n\nAgenda\n\n\n\n\n\n\n\n\n\n8:30 – 9:00 am ET \n\n\n\n\n\nContinental Breakfast & NetworkingIn Person \n\n\n\n\n\n\n\n9:00 – 10:30 am ET \n\n\n\n\n\nPresentation\, Panel Discussion and Audience Q&AIn Person and Virtual Audiences \n\n\n\n\n\n\n\n10:30 – 11:00 am ET \n\n\n\n\n\nClosing Remarks and NetworkingIn Person \n\n\n\n\n\n\n\n\n\n\n\n\n\n\n\nPresented by\n\n\n\n\n\nLocation\n\n\n\nThis is a hybrid event. 
URL:https://fedcommunities.org/event/district-dialogues-maximizing-employment-understanding-labor-force-participation/
LOCATION:Federal Reserve Bank of Richmond\, Baltimore Branch\, 502 S. Sharp Street\, Baltimore\, Maryland\, 21201\, United States
CATEGORIES:District Dialogues
ATTACH;FMTTYPE=image/jpeg:https://fedcommunities.org/wp-content/uploads/2025/06/richmond-fed-district-dialogues-labor-force-participation.jpg
END:VEVENT
BEGIN:VEVENT
DTSTART;TZID=America/New_York:20250401T143000
DTEND;TZID=America/New_York:20250401T170000
DTSTAMP:20260422T080650
CREATED:20250312T223406Z
LAST-MODIFIED:20250603T232927Z
UID:10000626-1743517800-1743526800@fedcommunities.org
SUMMARY:District Dialogues: Exploring the Importance of the Housing Market
DESCRIPTION:The Richmond Fed has spent the last several years examining the crucial connection between housing costs and the broader economy. With housing accounting for nearly 20% of consumer spending\, current supply and demand imbalances are impacting both national and local economies. This District Dialogues event will be a deep dive into how the housing market is influencing inflation\, labor mobility and economic stability and efforts in the region to address issues in the housing market.  \n\n\n\nJoin us in person on Tuesday\, April 1 at the Richmond Fed’s Charlotte Branch as we bring together economists and industry leaders to unpack these issues and more.  If travel to Charlotte is not possible for you\, we will also offer a livestreamed version of the event. Simply select which option works best for you when you register.  \n\n\n\nDistrict Dialogues events are open to all community members\, and there is no cost to register and attend\, however\, registration is required. Attendees are invited to join us for refreshments and networking prior to the event.  \n\n\n\nExplore the complete District Dialogue series to discover more conversations.  \n\n\n\n\nRegister\n\n\n\n\n\n\n\n\n\n\nSpeakers\n\n\n\n\n\nCarrie Cook\, Vice President and Community Affairs Officer\, Federal Reserve Bank of Richmond\n\n\n\nGrey Gordon\, Senior Economist\, Federal Reserve Bank of Richmond\n\n\n\nMatt Martin\, Regional Executive\, Federal Reserve Bank of Richmond\n\n\n\n\n\n\n\n\n\n\n\n\n\n\n\nAgenda\n\n\n\n\n\n\n\n\n\n2:30 – 3:00 pm ET \n\n\n\n\n\nWelcome Receiption: Networking and RefreshmentsIn Person \n\n\n\n\n\n\n\n3:00 – 4:30 pm ET \n\n\n\n\n\nPresentation\, Panel Discussion and Audience Q&AIn Person and Virtual Audiences \n\n\n\n\n\n\n\n4:30 – 5:30 pm ET \n\n\n\n\n\nClosing Remarks and NetworkingIn Person \n\n\n\n\n\n\n\n\n\n\n\n\n\n\n\nPresented by \n\n\n\n\n\nLocation\n\n\n\nThis is a hybrid event. 
URL:https://fedcommunities.org/event/district-dialogues-exploring-importance-housing-market/
LOCATION:Federal Reserve Bank of Richmond\, Charlotte Branch\, 530 East Trade Street\, Charlotte\, North Carolina\, 28202
CATEGORIES:District Dialogues
ATTACH;FMTTYPE=image/jpeg:https://fedcommunities.org/wp-content/uploads/2025/03/richmond-fed-exploring-housing-market.jpg
END:VEVENT
BEGIN:VEVENT
DTSTART;TZID=America/New_York:20241114T180000
DTEND;TZID=America/New_York:20241114T200000
DTSTAMP:20260422T080650
CREATED:20241024T201348Z
LAST-MODIFIED:20241112T173827Z
UID:10000592-1731607200-1731614400@fedcommunities.org
SUMMARY:Class Dismissed: The Economic Cost of Pandemic Learning Loss
DESCRIPTION:About the Event\n\n\n\nImagine a classroom where the vibrant energy of students learning and growing is abruptly silenced. Schools worldwide shut their doors as the COVID-19 pandemic sweeps across nations\, leaving millions of students isolated from their teachers and peers. Online learning becomes the new norm\, but the digital divide and lack of resources create significant barriers. \n\n\n\nJoin us Thursday\, November 14\, for the next installment in our District Dialogues series as we bring together economists\, educators and policymakers to analyze how prolonged school closures and remote learning have affected student achievement and how it could impact our future workforce and economy. Attendees will gain insights into the long-term economic consequences of educational setbacks\, including potential impacts on workforce productivity\, educational inequality and economic growth. \n\n\n\nFour Ways to Attend\n\n\n\nFor this year’s District Dialogues event\, we’re offering four ways to join the conversation: In person at one of our three branch locations (Richmond\, Baltimore\, or Charlotte–addresses below) or virtually via Zoom. \n\n\n\n\n\nFederal Reserve Bank of Richmond\, Richmond Branch\, 701 E Byrd Street\, Richmond\, VA 23219\n\n\n\nFederal Reserve Bank of Richmond\, Baltimore Branch\, 502 S. Sharp Street\, Baltimore\, MD 21201\n\n\n\nFederal Reserve Bank of Richmond\, Charlotte Branch\, 530 East Trade Street\, Charlotte\, NC 28202\n\n\n\nVirtual via Zoom\n\n\n\n\n\nDeadline for Registration: November 8\, 2024. \n\n\n\n\nRegister\n\n\n\n\n\n\n\n\n\n\nEvent Objectives\n\n\n\n\n\nExamine local policies and programs to remediate COVID learning loss and existing evidence on the effectiveness of the policies so far.\n\n\n\nSummarize the key evidence of COVID-era learning loss at the national and Fifth District level.\n\n\n\nExplain why the economic impacts of COVID-era learning loss are an issue being studied by the Richmond Fed.\n\n\n\nExplore how COVID learning loss isn’t equally distributed.\n\n\n\nDescribe what has been learned so far about the economic costs of the learning that was lost and what questions remain unanswered.\n\n\n\nDiscuss the different types of remediation policies being tried at the state\, school district and school-level.\n\n\n\nExplore the local economic costs of COVID-era learning loss\, including potential impact on the workforce going forward.\n\n\n\n\n\nWho Should Attend\n\n\n\nWe encourage educators\, administrators\, parents\, students\, business leaders\, community advocates\, and policymakers to attend. \n\n\n\n\n\n\n\n\n\n\n\n\n\nAgenda\n\n\n\n\n\n\n\n\n\n5:30 pm ET \n\n\n\n\n\nWelcome Reception and Networking\n\n\n\n*For in person audiences \n\n\n\n\n\n\n\n5:55 pm ET \n\n\n\n\n\nWelcome to Branch Audiences\n\n\n\n\n\n\n\n6:00 pm ET \n\n\n\n\n\nWelcome and Introduction\n\n\n\n\n\n\n\n6:10 pm ET \n\n\n\n\n\nPanel Discussion: A Broad Perspective of Learning Loss and the Economic Costs\n\n\n\n\n\n\n\n6:45 pm ET \n\n\n\n\n\nPanel Discussion: The Local Perspective on Learning Loss and Remediation\n\n\n\n\n\n\n\n7:30 pm ET \n\n\n\n\n\nReception and Ongoing Discussion \n\n\n\n\n\n\n\n\n\n\n\nPresented by\n\n\n\n\n\nLocations
URL:https://fedcommunities.org/event/class-dismissed-economic-cost-pandemic-learning-loss/
LOCATION:Federal Reserve Bank of Richmond\, 701 E Byrd St\, Richmond\, Virginia\, 23219\, United States
CATEGORIES:District Dialogues
ATTACH;FMTTYPE=image/jpeg:https://fedcommunities.org/wp-content/uploads/2024/10/richmond-fed-class-dismissed-event.jpg
END:VEVENT
BEGIN:VEVENT
DTSTART;TZID=America/New_York:20230518T180000
DTEND;TZID=America/New_York:20230518T193000
DTSTAMP:20260422T080650
CREATED:20230320T171357Z
LAST-MODIFIED:20230320T171358Z
UID:10000373-1684432800-1684438200@fedcommunities.org
SUMMARY:District Dialogues: Building Resilient Communities: Preparing for Extreme Weather Challenges
DESCRIPTION:Join the Richmond Fed’s third District Dialogues event of the 2022–2023 season\, which will explore how communities and industries across the Fifth District are preparing to navigate the impact of extreme weather on local economies. This event is open to everyone interested in the changing climate\, including members of the public\, investors\, educators\, school administrators\, state and local policymakers\, workforce development professionals\, and community and business leaders. This is a hybrid event with virtual and in-person attendance options. To attend in person\, please register by May 11\, 2023. \n\n\n\n\nRegister\n\n\n\n\n\n\n\n\nAt the Richmond Fed\, it’s important that we understand the economic issues affecting the communities we serve. Join this conversation on the economic implications of extreme weather events and how communities across our region are investing to increase their economic resiliency—or ability to bounce back economically—after a hurricane\, heat wave or other major weather event hits close to home. \n\n\n\nDuring the session\, you will hear from leading experts from the Richmond Fed as well as industry and community organizations on the following topics. \n\n\n\n\n\nThe Federal Reserve’s responsibility to understand climate-related financial risks\n\n\n\nEconomic impacts of extreme weather on rural versus urban communities—as well as the overall economy\n\n\n\nHow communities in the Fifth District are to preparing to “weather” the economic challenges presented by extreme weather events\n\n\n\n\n\nPresented by\n\n\n\n\n\nVenue\n\n\n\nThis is a hybrid event with virtual and in-person attendance options.
URL:https://fedcommunities.org/event/district-dialogues-extreme-weather-challenges-resilient-communities/
LOCATION:Federal Reserve Bank of Richmond\, 701 E Byrd St\, Richmond\, Virginia\, 23219\, United States
CATEGORIES:District Dialogues
ATTACH;FMTTYPE=image/jpeg:https://fedcommunities.org/wp-content/uploads/2022/10/20230518-districtdialogues-extreme-weather-1920x1280-1.jpg
END:VEVENT
BEGIN:VEVENT
DTSTART;TZID=America/New_York:20220809T180000
DTEND;TZID=America/New_York:20220809T193000
DTSTAMP:20260422T080650
CREATED:20220707T012600Z
LAST-MODIFIED:20220707T012601Z
UID:10000314-1660068000-1660073400@fedcommunities.org
SUMMARY:District Dialogues: The Economics of an Aging America
DESCRIPTION:Join the Federal Reserve Bank of Richmond for a District Dialogues forum bringing together leading experts to discuss the economics of aging in America. District Dialogues is a free event\, but registration is required. To attend in person\, please register by August 2. \n\n\n\n\nRegister\n\n\n\n\n\n\n\n\nEvent details\n\n\n\nWhen you attend this session\, you’ll learn: \n\n\n\n\nHow the changing demographic trends of America impact our overall economyHow and why to prepare now – no matter what stage of life you’re in – for your own agingWhat impact today’s aging population has on our workforceHow policy can impact the decisions people make as they age\, what policies might minimize challenges faced by people as we age and how these policies impact younger generations\n\n\n\n\nWhether you’re Gen Z\, a Baby Boomer or somewhere in between\, we will approach the topic of aging from every stage of life so you will leave understanding how the aging population directly impacts you\, from real estate and work life choices to caregiving and financial decisions. \n\n\n\nThis event is open to people of all ages interested in the economics of an aging America\, including members of the public\, educators\, school administrators\, state and local policymakers\, workforce development professionals\, and community and business leaders. \n\n\n\nOnce you register\, follow the Richmond Fed on social media to join us in our lead-up discussions related to the economics of aging and share your own thoughts using the #DistrictDialogues hashtag. \n\n\n\nAgenda\n\n\n\nPlan to join us August 9 in person to ask questions of our panelists\, network with fellow attendees\, and enjoy refreshments beginning at 5 pm. Continue the conversation over dessert and coffee starting at 7:30 pm. Can’t make it to Richmond? The live stream starts at 6 pm. \n\n\n\n\n\n5:00–6:00 pm ET \n\n\n\n\n\nNetworking and refreshments for in-person attendees \n\n\n\n\n\n\n\n6:00–7:30 pm ET \n\n\n\n\n\nPanel discussion and live stream for virtual attendees \n\n\n\n\n\n\n\n7:30–8:15 p.m. ET \n\n\n\n\n\nConversations\, coffee\, and dessert for in-person attendees \n\n\n\n\n\nPresented by\n\n\n\n\n\nVenue\n\n\n\nThis hybrid event includes virtual and in-person attendance options. Simply select which option works best for you when you register. Please be aware that you must follow the Richmond Fed’s COVID-19 protocols while on our premises. Details will be provided in advance of the event.
URL:https://fedcommunities.org/event/district-dialogues-economics-aging-america/
LOCATION:Federal Reserve Bank of Richmond\, 701 E Byrd St\, Richmond\, Virginia\, 23219\, United States
CATEGORIES:District Dialogues
ATTACH;FMTTYPE=image/jpeg:https://fedcommunities.org/wp-content/uploads/2022/07/dd-economics-aging-america-1920x1280-1.jpg
END:VEVENT
BEGIN:VEVENT
DTSTART;TZID=America/New_York:20220512T190000
DTEND;TZID=America/New_York:20220512T203000
DTSTAMP:20260422T080651
CREATED:20220402T040524Z
LAST-MODIFIED:20220402T040526Z
UID:10000296-1652382000-1652387400@fedcommunities.org
SUMMARY:District Dialogues: Addressing the Wealth Gap
DESCRIPTION:You’re invited to the Federal Reserve Bank of Richmond for District Dialogues\, a forum that gives community members a unique opportunity to engage with experts about economic issues facing the Fifth District and beyond. The next installment in the series\, Addressing the Wealth Gap\, will explore black-white wealth disparities and their consequences for the economy. Join us Thursday\, May 12 from 7:00 – 8:30 p.m. to hear a panel of experts field audience questions related to the origins of these disparities\, their economic impact\, and opportunities to address them. Registration is required\, but there is no cost to attend. \n\n\n\nThis event is open to anyone interested in the racial wealth gap and the role of policy\, including educators\, school administrators\, state and local policymakers\, workforce development professionals\, and community and business leaders. \n\n\n\n\nRegister\n\n\n\n\n\n\n\n\nLocation\n\n\n\nThe event will take place at the Richmond Fed in downtown Richmond\, with a virtual attendance option available for those who cannot gather in person. In-person attendees will be required to follow the Richmond Fed’s COVID-19 protocols. Details will be provided in advance of the event.  \n\n\n\n\n\n\n\nPresented by
URL:https://fedcommunities.org/event/2022-district-dialogues-wealth-gap/
LOCATION:Federal Reserve Bank of Richmond\, 701 E Byrd St\, Richmond\, Virginia\, 23219\, United States
CATEGORIES:District Dialogues
ATTACH;FMTTYPE=image/jpeg:https://fedcommunities.org/wp-content/uploads/2022/04/district-dialogues-wealth-gap-1920x1280-1.jpg
END:VEVENT
BEGIN:VEVENT
DTSTART;TZID=America/New_York:20220208T190000
DTEND;TZID=America/New_York:20220208T203000
DTSTAMP:20260422T080651
CREATED:20211222T212630Z
LAST-MODIFIED:20220203T013527Z
UID:10000197-1644346800-1644352200@fedcommunities.org
SUMMARY:District Dialogues: Human Capital Decisions and the Future of Work
DESCRIPTION:Decisions about education and training are complicated\, especially given the uncertainty in the labor market. On February 8\, join the Federal Reserve Bank of Richmond to explore how the future of work is changing human capital decisions\, what skills will be needed in the economy of tomorrow\, and what this means for the Fifth Federal Reserve District and country as a whole. This is a hybrid event offered virtually and in-person. Registration is now open to attend virtually. \n\n\n\n\nRegister\n\n\n\n\n\n\n\n\nIf you’re interested in joining our limited in-person audience\, please contact us to learn more. In-person attendees will be required to follow the Richmond Fed’s COVID-19 protocols. \n\n\n\n\n\n\n\nAbout District Dialogues\n\n\n\nThis event is part of District Dialogues\, a forum that gives community members a unique opportunity to engage with experts about prevailing issues facing the Fifth District and beyond. \n\n\n\n\n\n allowfullscreen>\n \n\n\n\n\n\n\nPresented by
URL:https://fedcommunities.org/event/district-dialogues-human-capital-decisions-future-work/
LOCATION:Virtual Event
CATEGORIES:District Dialogues
ATTACH;FMTTYPE=image/jpeg:https://fedcommunities.org/wp-content/uploads/2021/12/district-dialogues-human-capital-event-2022-1920x1280-1.jpg
END:VEVENT
BEGIN:VEVENT
DTSTART;TZID=America/New_York:20210505T140000
DTEND;TZID=America/New_York:20210505T150000
DTSTAMP:20260422T080651
CREATED:20210325T065513Z
LAST-MODIFIED:20210325T221101Z
UID:10000202-1620223200-1620226800@fedcommunities.org
SUMMARY:Connecting People to Jobs
DESCRIPTION:Getting a degree or a certificate is one thing—getting a job is another\, particularly given the uncertainty around where the labor market is headed. Educators and community and business leaders will share strategies to connect people to in-demand jobs. \n\n\n\n\nRegister
URL:https://fedcommunities.org/event/connecting-people-to-jobs/
CATEGORIES:District Dialogues
ATTACH;FMTTYPE=image/jpeg:https://fedcommunities.org/wp-content/uploads/2021/03/connectingpeepstojobs_pifn_65_25.jpg
END:VEVENT
BEGIN:VEVENT
DTSTART;TZID=America/New_York:20210505T130000
DTEND;TZID=America/New_York:20210505T140000
DTSTAMP:20260422T080651
CREATED:20210325T072249Z
LAST-MODIFIED:20210325T223012Z
UID:10000204-1620219600-1620223200@fedcommunities.org
SUMMARY:After High School
DESCRIPTION:College enrollment is down. We’ll talk with administrators and educators at community colleges and four-year schools about keeping students engaged in education and helping them find the path to the workforce that’s best for them. \n\n\n\n\nRegister
URL:https://fedcommunities.org/event/after-high-school/
CATEGORIES:District Dialogues
ATTACH;FMTTYPE=image/jpeg:https://fedcommunities.org/wp-content/uploads/2021/03/afterhighschool_pifn_60_25.jpg
END:VEVENT
BEGIN:VEVENT
DTSTART;TZID=America/New_York:20210408T130000
DTEND;TZID=America/New_York:20210408T140000
DTSTAMP:20260422T080651
CREATED:20210325T071226Z
LAST-MODIFIED:20210325T160542Z
UID:10000203-1617886800-1617890400@fedcommunities.org
SUMMARY:Financing Education\, Now and Into the Future
DESCRIPTION:State and local governments play a critical role in funding and delivering K-12 education in the United States\, but funding can vary from district to district\, creating disparities that have been exacerbated by the pandemic.  Hear from economists\, policy experts\, and practitioners about how education finance has been impacted by the pandemic\, the different types of decisions local leaders must make to deliver quality education to students\, and how we can try to address issues of equity and disparities going forward. \n\n\n\n\nRegister
URL:https://fedcommunities.org/event/financing-education/
CATEGORIES:District Dialogues
ATTACH;FMTTYPE=image/jpeg:https://fedcommunities.org/wp-content/uploads/2021/03/investingineducation_pifn_60_30.jpg
END:VEVENT
END:VCALENDAR